BEGIN:VCALENDAR
VERSION:2.0
PRODID:-//Atomic Ranch Buckeye Arizona - ECPv6.5.1.5//NONSGML v1.0//EN
CALSCALE:GREGORIAN
METHOD:PUBLISH
X-WR-CALNAME:Atomic Ranch Buckeye Arizona
X-ORIGINAL-URL:https://buckeyeairbnb.com
X-WR-CALDESC:Events for Atomic Ranch Buckeye Arizona
REFRESH-INTERVAL;VALUE=DURATION:PT1H
X-Robots-Tag:noindex
X-PUBLISHED-TTL:PT1H
BEGIN:VTIMEZONE
TZID:UTC
BEGIN:STANDARD
TZOFFSETFROM:+0000
TZOFFSETTO:+0000
TZNAME:UTC
DTSTART:20230101T000000
END:STANDARD
END:VTIMEZONE
BEGIN:VEVENT
DTSTART;TZID=UTC:20230715T183000
DTEND;TZID=UTC:20230715T193000
DTSTAMP:20260420T074352
CREATED:20230611T210947Z
LAST-MODIFIED:20230611T210947Z
UID:255961-1689445800-1689449400@buckeyeairbnb.com
SUMMARY:24-Hour Desert Survival
DESCRIPTION:Attendees will learn basic 24-hour emergency desert survival skills including what to pack in a survival kit\, building a fire and shelter\, and signaling for help. Program is structured for youth and adults. Bring water\, sun protection\, and chair.
URL:https://buckeyeairbnb.com/event/24-hour-desert-survival/
LOCATION:Skyline Regional Park\, 2600 N Watson Rd\, Buckeye\, AZ\, 85396\, United States
CATEGORIES:Outdoor Adventures
END:VEVENT
END:VCALENDAR