BEGIN:VCALENDAR
VERSION:2.0
PRODID:-//Atomic Ranch Buckeye Arizona - ECPv6.5.1.5//NONSGML v1.0//EN
CALSCALE:GREGORIAN
METHOD:PUBLISH
X-WR-CALNAME:Atomic Ranch Buckeye Arizona
X-ORIGINAL-URL:https://buckeyeairbnb.com
X-WR-CALDESC:Events for Atomic Ranch Buckeye Arizona
REFRESH-INTERVAL;VALUE=DURATION:PT1H
X-Robots-Tag:noindex
X-PUBLISHED-TTL:PT1H
BEGIN:VTIMEZONE
TZID:UTC
BEGIN:STANDARD
TZOFFSETFROM:+0000
TZOFFSETTO:+0000
TZNAME:UTC
DTSTART:20240101T000000
END:STANDARD
END:VTIMEZONE
BEGIN:VEVENT
DTSTART;TZID=UTC:20240216T090000
DTEND;TZID=UTC:20240216T200000
DTSTAMP:20260419T183243
CREATED:20240103T194948Z
LAST-MODIFIED:20240103T194948Z
UID:256140-1708074000-1708113600@buckeyeairbnb.com
SUMMARY:Buckeye Air Fair
DESCRIPTION:The Buckeye Air Fair returns for a weekend of high-flying fun\, February 16-18\, 2024 at the Buckeye Municipal Airport. \nThis year’s event features 2.5-hour action packed airshows\, Aircraft Owners and Pilots Association Fly-In\, Aviation Academy and a VIP experience for a front row view of the airshows. \nOther family activities include hundreds of pilots from around the western U.S. showcasing their unique aircraft\, historic and military static aircraft displays\, great food\, vendors and a Kid’s Zone.
URL:https://buckeyeairbnb.com/event/buckeye-air-fair-2/
LOCATION:Buckeye Airport\, 3000 South Palo Verde Rd\, AZ\, United States
CATEGORIES:Family Entertainment
END:VEVENT
END:VCALENDAR