BEGIN:VCALENDAR
VERSION:2.0
PRODID:-//Atomic Ranch Buckeye Arizona - ECPv6.5.1.5//NONSGML v1.0//EN
CALSCALE:GREGORIAN
METHOD:PUBLISH
X-WR-CALNAME:Atomic Ranch Buckeye Arizona
X-ORIGINAL-URL:https://buckeyeairbnb.com
X-WR-CALDESC:Events for Atomic Ranch Buckeye Arizona
REFRESH-INTERVAL;VALUE=DURATION:PT1H
X-Robots-Tag:noindex
X-PUBLISHED-TTL:PT1H
BEGIN:VTIMEZONE
TZID:UTC
BEGIN:STANDARD
TZOFFSETFROM:+0000
TZOFFSETTO:+0000
TZNAME:UTC
DTSTART:20230101T000000
END:STANDARD
END:VTIMEZONE
BEGIN:VEVENT
DTSTART;TZID=UTC:20230430T110000
DTEND;TZID=UTC:20230430T130000
DTSTAMP:20260420T020744
CREATED:20230406T013314Z
LAST-MODIFIED:20230406T013314Z
UID:255734-1682852400-1682859600@buckeyeairbnb.com
SUMMARY:Candle Making Class with My Scented Garden
DESCRIPTION:
URL:https://buckeyeairbnb.com/event/candle-making-class-with-my-scented-garden/
LOCATION:Screws and Sparkles\, 343 E Monroe Ave\, Buckeye\, AZ\, 85326\, United States
CATEGORIES:Family Entertainment
END:VEVENT
END:VCALENDAR