BEGIN:VCALENDAR
VERSION:2.0
PRODID:-//Atomic Ranch Buckeye Arizona - ECPv6.5.1.5//NONSGML v1.0//EN
CALSCALE:GREGORIAN
METHOD:PUBLISH
X-WR-CALNAME:Atomic Ranch Buckeye Arizona
X-ORIGINAL-URL:https://buckeyeairbnb.com
X-WR-CALDESC:Events for Atomic Ranch Buckeye Arizona
REFRESH-INTERVAL;VALUE=DURATION:PT1H
X-Robots-Tag:noindex
X-PUBLISHED-TTL:PT1H
BEGIN:VTIMEZONE
TZID:UTC
BEGIN:STANDARD
TZOFFSETFROM:+0000
TZOFFSETTO:+0000
TZNAME:UTC
DTSTART:20230101T000000
END:STANDARD
END:VTIMEZONE
BEGIN:VEVENT
DTSTART;TZID=UTC:20231014T180000
DTEND;TZID=UTC:20231014T210000
DTSTAMP:20260419T145735
CREATED:20230830T180813Z
LAST-MODIFIED:20230830T180813Z
UID:256033-1697306400-1697317200@buckeyeairbnb.com
SUMMARY:Elk's Smoked Meats Dinner
DESCRIPTION:
URL:https://buckeyeairbnb.com/event/elks-smoked-meats-dinner/
LOCATION:The Elks Lodge\, 109 N 5th Street\, Buckeye\, AZ\, 85326\, United States
CATEGORIES:Culinary,Family Entertainment
END:VEVENT
END:VCALENDAR