BEGIN:VCALENDAR
VERSION:2.0
PRODID:-//Atomic Ranch Buckeye Arizona - ECPv6.5.1.5//NONSGML v1.0//EN
CALSCALE:GREGORIAN
METHOD:PUBLISH
X-WR-CALNAME:Atomic Ranch Buckeye Arizona
X-ORIGINAL-URL:https://buckeyeairbnb.com
X-WR-CALDESC:Events for Atomic Ranch Buckeye Arizona
REFRESH-INTERVAL;VALUE=DURATION:PT1H
X-Robots-Tag:noindex
X-PUBLISHED-TTL:PT1H
BEGIN:VTIMEZONE
TZID:UTC
BEGIN:STANDARD
TZOFFSETFROM:+0000
TZOFFSETTO:+0000
TZNAME:UTC
DTSTART:20230101T000000
END:STANDARD
END:VTIMEZONE
BEGIN:VEVENT
DTSTART;TZID=UTC:20230704T183000
DTEND;TZID=UTC:20230704T213000
DTSTAMP:20260420T005850
CREATED:20230526T193930Z
LAST-MODIFIED:20230526T193930Z
UID:255935-1688495400-1688506200@buckeyeairbnb.com
SUMMARY:Independence Day Celebration
DESCRIPTION:Pack your blanket and chairs and enjoy the tailgate style event at Buckeye’s Independence Day Celebration. Bring out your favorite yard games and friends and do not forget the water! This festive event will also include All-American eats & treats with a variety of food trucks and vendors and a concert! The patriotic celebration will finish with a drive-in style fireworks show at approximately 9 p.m.
URL:https://buckeyeairbnb.com/event/independence-day-celebration/
LOCATION:Buckeye Airport\, 3000 South Palo Verde Rd\, AZ\, United States
CATEGORIES:Concert,Family Entertainment
END:VEVENT
END:VCALENDAR