BEGIN:VCALENDAR
VERSION:2.0
PRODID:-//Atomic Ranch Buckeye Arizona - ECPv6.5.1.5//NONSGML v1.0//EN
CALSCALE:GREGORIAN
METHOD:PUBLISH
X-WR-CALNAME:Atomic Ranch Buckeye Arizona
X-ORIGINAL-URL:https://buckeyeairbnb.com
X-WR-CALDESC:Events for Atomic Ranch Buckeye Arizona
REFRESH-INTERVAL;VALUE=DURATION:PT1H
X-Robots-Tag:noindex
X-PUBLISHED-TTL:PT1H
BEGIN:VTIMEZONE
TZID:UTC
BEGIN:STANDARD
TZOFFSETFROM:+0000
TZOFFSETTO:+0000
TZNAME:UTC
DTSTART:20230101T000000
END:STANDARD
END:VTIMEZONE
BEGIN:VEVENT
DTSTART;TZID=UTC:20230701T053000
DTEND;TZID=UTC:20230701T073000
DTSTAMP:20260420T040141
CREATED:20230611T211224Z
LAST-MODIFIED:20230611T211224Z
UID:255967-1688189400-1688196600@buckeyeairbnb.com
SUMMARY:Independence Day Hike
DESCRIPTION:Head outdoors for an early morning hike to celebrate Independence Day. This is a great location to enjoy America’s independence with family and friends. This will be a medium grade 2-3 mile roundtrip hike. Bring extra water\, closed-toed shoes\, and sun protection.
URL:https://buckeyeairbnb.com/event/independence-day-hike/
LOCATION:Skyline Regional Park\, 2600 N Watson Rd\, Buckeye\, AZ\, 85396\, United States
CATEGORIES:Outdoor Adventures
END:VEVENT
END:VCALENDAR