BEGIN:VCALENDAR
VERSION:2.0
PRODID:-//Atomic Ranch Buckeye Arizona - ECPv6.5.1.5//NONSGML v1.0//EN
CALSCALE:GREGORIAN
METHOD:PUBLISH
X-WR-CALNAME:Atomic Ranch Buckeye Arizona
X-ORIGINAL-URL:https://buckeyeairbnb.com
X-WR-CALDESC:Events for Atomic Ranch Buckeye Arizona
REFRESH-INTERVAL;VALUE=DURATION:PT1H
X-Robots-Tag:noindex
X-PUBLISHED-TTL:PT1H
BEGIN:VTIMEZONE
TZID:UTC
BEGIN:STANDARD
TZOFFSETFROM:+0000
TZOFFSETTO:+0000
TZNAME:UTC
DTSTART:20230101T000000
END:STANDARD
END:VTIMEZONE
BEGIN:VEVENT
DTSTART;TZID=UTC:20230313T100000
DTEND;TZID=UTC:20230313T233000
DTSTAMP:20260421T003257
CREATED:20230222T004633Z
LAST-MODIFIED:20230222T004633Z
UID:620-1678701600-1678750200@buckeyeairbnb.com
SUMMARY:Kids Hike
DESCRIPTION:
URL:https://buckeyeairbnb.com/event/kids-hike/
LOCATION:Skyline Regional Park\, 2600 N Watson Rd\, Buckeye\, AZ\, 85396\, United States
CATEGORIES:Outdoor Adventures
END:VEVENT
END:VCALENDAR