BEGIN:VCALENDAR
VERSION:2.0
PRODID:-//Atomic Ranch Buckeye Arizona - ECPv6.5.1.5//NONSGML v1.0//EN
CALSCALE:GREGORIAN
METHOD:PUBLISH
X-WR-CALNAME:Atomic Ranch Buckeye Arizona
X-ORIGINAL-URL:https://buckeyeairbnb.com
X-WR-CALDESC:Events for Atomic Ranch Buckeye Arizona
REFRESH-INTERVAL;VALUE=DURATION:PT1H
X-Robots-Tag:noindex
X-PUBLISHED-TTL:PT1H
BEGIN:VTIMEZONE
TZID:UTC
BEGIN:STANDARD
TZOFFSETFROM:+0000
TZOFFSETTO:+0000
TZNAME:UTC
DTSTART:20240101T000000
END:STANDARD
END:VTIMEZONE
BEGIN:VEVENT
DTSTART;VALUE=DATE:20240105
DTEND;VALUE=DATE:20240108
DTSTAMP:20260419T211201
CREATED:20240103T200402Z
LAST-MODIFIED:20240103T200402Z
UID:256158-1704412800-1704671999@buckeyeairbnb.com
SUMMARY:MVP Barrel Race
DESCRIPTION:
URL:https://buckeyeairbnb.com/event/mvp-barrel-race/
LOCATION:South Buckeye Equestrian & Event Center\, 10300 South Miller Rd.\, Buckeye\, AZ\, 85326\, United States
CATEGORIES:Family Entertainment
END:VEVENT
END:VCALENDAR