BEGIN:VCALENDAR
VERSION:2.0
PRODID:-//Atomic Ranch Buckeye Arizona - ECPv6.5.1.5//NONSGML v1.0//EN
CALSCALE:GREGORIAN
METHOD:PUBLISH
X-WR-CALNAME:Atomic Ranch Buckeye Arizona
X-ORIGINAL-URL:https://buckeyeairbnb.com
X-WR-CALDESC:Events for Atomic Ranch Buckeye Arizona
REFRESH-INTERVAL;VALUE=DURATION:PT1H
X-Robots-Tag:noindex
X-PUBLISHED-TTL:PT1H
BEGIN:VTIMEZONE
TZID:UTC
BEGIN:STANDARD
TZOFFSETFROM:+0000
TZOFFSETTO:+0000
TZNAME:UTC
DTSTART:20230101T000000
END:STANDARD
END:VTIMEZONE
BEGIN:VEVENT
DTSTART;TZID=UTC:20230312T123000
DTEND;TZID=UTC:20230312T170000
DTSTAMP:20260420T152823
CREATED:20230222T012821Z
LAST-MODIFIED:20230222T012821Z
UID:685-1678624200-1678640400@buckeyeairbnb.com
SUMMARY:NASCAR Cup Series - Ruoff Mortgage 500
DESCRIPTION:
URL:https://buckeyeairbnb.com/event/nascar-cup-series-ruoff-mortgage-500/
LOCATION:Phoenix Raceway\, 7602 S. 115th Ave\, Avondale\, AZ\, United States
CATEGORIES:Sporting Events
END:VEVENT
END:VCALENDAR