BEGIN:VCALENDAR
VERSION:2.0
PRODID:-//Atomic Ranch Buckeye Arizona - ECPv6.5.1.5//NONSGML v1.0//EN
CALSCALE:GREGORIAN
METHOD:PUBLISH
X-WR-CALNAME:Atomic Ranch Buckeye Arizona
X-ORIGINAL-URL:https://buckeyeairbnb.com
X-WR-CALDESC:Events for Atomic Ranch Buckeye Arizona
REFRESH-INTERVAL;VALUE=DURATION:PT1H
X-Robots-Tag:noindex
X-PUBLISHED-TTL:PT1H
BEGIN:VTIMEZONE
TZID:UTC
BEGIN:STANDARD
TZOFFSETFROM:+0000
TZOFFSETTO:+0000
TZNAME:UTC
DTSTART:20230101T000000
END:STANDARD
END:VTIMEZONE
BEGIN:VEVENT
DTSTART;TZID=UTC:20231021T080000
DTEND;TZID=UTC:20231022T170000
DTSTAMP:20260419T213251
CREATED:20230830T180954Z
LAST-MODIFIED:20230830T180954Z
UID:256036-1697875200-1697994000@buckeyeairbnb.com
SUMMARY:Queen Creek Junior Rodeo
DESCRIPTION:A Free event for the whole family.
URL:https://buckeyeairbnb.com/event/queen-creek-junior-rodeo/
LOCATION:South Buckeye Equestrian & Event Center\, 10300 South Miller Rd.\, Buckeye\, AZ\, 85326\, United States
CATEGORIES:Family Entertainment,Sporting Events
END:VEVENT
END:VCALENDAR