BEGIN:VCALENDAR
VERSION:2.0
PRODID:-//Atomic Ranch Buckeye Arizona - ECPv6.5.1.5//NONSGML v1.0//EN
CALSCALE:GREGORIAN
METHOD:PUBLISH
X-WR-CALNAME:Atomic Ranch Buckeye Arizona
X-ORIGINAL-URL:https://buckeyeairbnb.com
X-WR-CALDESC:Events for Atomic Ranch Buckeye Arizona
REFRESH-INTERVAL;VALUE=DURATION:PT1H
X-Robots-Tag:noindex
X-PUBLISHED-TTL:PT1H
BEGIN:VTIMEZONE
TZID:UTC
BEGIN:STANDARD
TZOFFSETFROM:+0000
TZOFFSETTO:+0000
TZNAME:UTC
DTSTART:20230101T000000
END:STANDARD
END:VTIMEZONE
BEGIN:VEVENT
DTSTART;TZID=UTC:20230311T120000
DTEND;TZID=UTC:20230311T210000
DTSTAMP:20260421T104000
CREATED:20230222T011910Z
LAST-MODIFIED:20230222T011910Z
UID:675-1678536000-1678568400@buckeyeairbnb.com
SUMMARY:Smoke on the Water - BBQ Fest
DESCRIPTION:
URL:https://buckeyeairbnb.com/event/smoke-on-the-water-bbq-fest/
LOCATION:Hidden Lake\, 24445 W Sunrise Way\, Buckeye\, AZ\, 85326\, United States
CATEGORIES:Culinary,Outdoor Adventures
END:VEVENT
END:VCALENDAR