BEGIN:VCALENDAR
VERSION:2.0
PRODID:-//Atomic Ranch Buckeye Arizona - ECPv6.5.1.5//NONSGML v1.0//EN
CALSCALE:GREGORIAN
METHOD:PUBLISH
X-WR-CALNAME:Atomic Ranch Buckeye Arizona
X-ORIGINAL-URL:https://buckeyeairbnb.com
X-WR-CALDESC:Events for Atomic Ranch Buckeye Arizona
REFRESH-INTERVAL;VALUE=DURATION:PT1H
X-Robots-Tag:noindex
X-PUBLISHED-TTL:PT1H
BEGIN:VTIMEZONE
TZID:UTC
BEGIN:STANDARD
TZOFFSETFROM:+0000
TZOFFSETTO:+0000
TZNAME:UTC
DTSTART:20230101T000000
END:STANDARD
END:VTIMEZONE
BEGIN:VEVENT
DTSTART;TZID=UTC:20231014T140000
DTEND;TZID=UTC:20231014T220000
DTSTAMP:20260419T150354
CREATED:20230830T175653Z
LAST-MODIFIED:20230830T175653Z
UID:256023-1697292000-1697320800@buckeyeairbnb.com
SUMMARY:South of Arizona 85 Festival at the Farm
DESCRIPTION:ACTIVITIES \nLarge Kid’s Zone with Rock-Climbing Wall and Inflatables \nLiquor will be Sold to Benefit the Arizona FFA Foundation \nDance Floor \nAdult Lawn Games \n\nOUR PERFORMERS\nCHANCEY WILLIAMS\n\n\nJacob Hyde \nBillie Shaw Jr. \nSunset Red \nHarry Luge Band
URL:https://buckeyeairbnb.com/event/south-of-arizona-85-festival-at-the-farm/
LOCATION:Bales Hay\, 20600 W Beloat Rd\, Buckeye\, AZ\, 85326\, United States
CATEGORIES:Concert,Family Entertainment
END:VEVENT
END:VCALENDAR