BEGIN:VCALENDAR
VERSION:2.0
PRODID:-//Atomic Ranch Buckeye Arizona - ECPv6.5.1.5//NONSGML v1.0//EN
CALSCALE:GREGORIAN
METHOD:PUBLISH
X-WR-CALNAME:Atomic Ranch Buckeye Arizona
X-ORIGINAL-URL:https://buckeyeairbnb.com
X-WR-CALDESC:Events for Atomic Ranch Buckeye Arizona
REFRESH-INTERVAL;VALUE=DURATION:PT1H
X-Robots-Tag:noindex
X-PUBLISHED-TTL:PT1H
BEGIN:VTIMEZONE
TZID:UTC
BEGIN:STANDARD
TZOFFSETFROM:+0000
TZOFFSETTO:+0000
TZNAME:UTC
DTSTART:20240101T000000
END:STANDARD
END:VTIMEZONE
BEGIN:VEVENT
DTSTART;TZID=UTC:20240229T180000
DTEND;TZID=UTC:20240229T210000
DTSTAMP:20260419T184416
CREATED:20240103T193606Z
LAST-MODIFIED:20240103T193606Z
UID:256088-1709229600-1709240400@buckeyeairbnb.com
SUMMARY:Spring Training - Los Angeles Dodgers at Cincinnati Reds
DESCRIPTION:
URL:https://buckeyeairbnb.com/event/spring-training-los-angeles-dodgers-at-cincinnati-reds-2/
LOCATION:Goodyear Ballpark\, 190 N Litchfield Road\, Goodyear\, AZ\, United States
CATEGORIES:Sporting Events
END:VEVENT
END:VCALENDAR