BEGIN:VCALENDAR
VERSION:2.0
PRODID:-//Atomic Ranch Buckeye Arizona - ECPv6.5.1.5//NONSGML v1.0//EN
CALSCALE:GREGORIAN
METHOD:PUBLISH
X-WR-CALNAME:Atomic Ranch Buckeye Arizona
X-ORIGINAL-URL:https://buckeyeairbnb.com
X-WR-CALDESC:Events for Atomic Ranch Buckeye Arizona
REFRESH-INTERVAL;VALUE=DURATION:PT1H
X-Robots-Tag:noindex
X-PUBLISHED-TTL:PT1H
BEGIN:VTIMEZONE
TZID:UTC
BEGIN:STANDARD
TZOFFSETFROM:+0000
TZOFFSETTO:+0000
TZNAME:UTC
DTSTART:20230101T000000
END:STANDARD
END:VTIMEZONE
BEGIN:VEVENT
DTSTART;TZID=UTC:20230624T200000
DTEND;TZID=UTC:20230624T220000
DTSTAMP:20260420T074310
CREATED:20230611T210904Z
LAST-MODIFIED:20230611T210904Z
UID:255959-1687636800-1687644000@buckeyeairbnb.com
SUMMARY:Stargazing
DESCRIPTION:Take a guided tour of the night sky with professional stargazers. Learn how to use a sky map\, the names and meanings of the stars\, see the constellations and listen to stories of the night sky. Then go stargazing and view the moon\, planets\, star clusters\, nebula\, galaxies and more through large telescopes. Bring extra water\, lawn chair\, and a flashlight with a red lens option. Please carpool as parking is limited.
URL:https://buckeyeairbnb.com/event/stargazing-2/
LOCATION:Skyline Regional Park\, 2600 N Watson Rd\, Buckeye\, AZ\, 85396\, United States
CATEGORIES:Outdoor Adventures
END:VEVENT
END:VCALENDAR