BEGIN:VCALENDAR
VERSION:2.0
PRODID:-//Atomic Ranch Buckeye Arizona - ECPv6.5.1.5//NONSGML v1.0//EN
CALSCALE:GREGORIAN
METHOD:PUBLISH
X-ORIGINAL-URL:https://buckeyeairbnb.com
X-WR-CALDESC:Events for Atomic Ranch Buckeye Arizona
REFRESH-INTERVAL;VALUE=DURATION:PT1H
X-Robots-Tag:noindex
X-PUBLISHED-TTL:PT1H
BEGIN:VTIMEZONE
TZID:UTC
BEGIN:STANDARD
TZOFFSETFROM:+0000
TZOFFSETTO:+0000
TZNAME:UTC
DTSTART:20230101T000000
END:STANDARD
END:VTIMEZONE
BEGIN:VEVENT
DTSTART;TZID=UTC:20230909T080000
DTEND;TZID=UTC:20230909T120000
DTSTAMP:20260419T131555
CREATED:20230830T175419Z
LAST-MODIFIED:20230830T175419Z
UID:256020-1694246400-1694260800@buckeyeairbnb.com
SUMMARY:Bales 10th Annual Chili Roasting Fiesta
DESCRIPTION:
URL:https://buckeyeairbnb.com/event/bales-10th-annual-chili-roasting-fiesta/
LOCATION:Bales Hay\, 20600 W Beloat Rd\, Buckeye\, AZ\, 85326\, United States
CATEGORIES:Culinary,Family Entertainment
END:VEVENT
BEGIN:VEVENT
DTSTART;TZID=UTC:20230909T100000
DTEND;TZID=UTC:20230909T120000
DTSTAMP:20260419T131555
CREATED:20230830T181939Z
LAST-MODIFIED:20230830T182306Z
UID:256043-1694253600-1694260800@buckeyeairbnb.com
SUMMARY:Tour Historic Liberty United Methodist Church
DESCRIPTION:Maintaining History – Liberty United Methodist Church (libertyumcbuckeyeaz.org) \nGroups can be scheduled at other times as well.  Please call 623-386-4090
URL:https://buckeyeairbnb.com/event/tour-historic-liberty-united-methodist-church/
LOCATION:Liberty United Methodist Church\, 19900 W US Highway 85\, Buckeye\, AZ\, 85326\, United States
CATEGORIES:historical tour
END:VEVENT
END:VCALENDAR