BEGIN:VCALENDAR
VERSION:2.0
PRODID:-//Atomic Ranch Buckeye Arizona - ECPv6.5.1.5//NONSGML v1.0//EN
CALSCALE:GREGORIAN
METHOD:PUBLISH
X-ORIGINAL-URL:https://buckeyeairbnb.com
X-WR-CALDESC:Events for Atomic Ranch Buckeye Arizona
REFRESH-INTERVAL;VALUE=DURATION:PT1H
X-Robots-Tag:noindex
X-PUBLISHED-TTL:PT1H
BEGIN:VTIMEZONE
TZID:UTC
BEGIN:STANDARD
TZOFFSETFROM:+0000
TZOFFSETTO:+0000
TZNAME:UTC
DTSTART:20230101T000000
END:STANDARD
END:VTIMEZONE
BEGIN:VEVENT
DTSTART;TZID=UTC:20230929T110000
DTEND;TZID=UTC:20231001T220000
DTSTAMP:20260420T071121
CREATED:20230830T180222Z
LAST-MODIFIED:20230830T180222Z
UID:256027-1695985200-1696197600@buckeyeairbnb.com
SUMMARY:Oktobeerfest
DESCRIPTION:PROST! Oktobeerfest is back and we’re ready to raise our steins to the ceiling! Join us at the Mountain September 29th – October 1st and get ready to indulge in four traditional German style beirs served in our 32oz Steins\, Mouthwatering Bavarian pub favorite eats\, German Polka bands and much more!\nSave the date and invite your friends and family\, it’s time to celebrate!
URL:https://buckeyeairbnb.com/event/oktobeerfest/
LOCATION:Saddle Mountain Brewing Company\, 15651 W Roosevelt St.\, Goodyear\, AZ\, 85338\, United States
CATEGORIES:adult fun,Culinary
END:VEVENT
BEGIN:VEVENT
DTSTART;TZID=UTC:20231006T080000
DTEND;TZID=UTC:20231008T170000
DTSTAMP:20260420T071121
CREATED:20230830T175911Z
LAST-MODIFIED:20230830T175911Z
UID:256025-1696579200-1696784400@buckeyeairbnb.com
SUMMARY:Buckeye Equestrian & Events Center - 2023 Arrowhead Kennel Club Dog Show
DESCRIPTION:
URL:https://buckeyeairbnb.com/event/buckeye-equestrian-events-center-2023-arrowhead-kennel-club-dog-show/
LOCATION:South Buckeye Equestrian & Event Center\, 10300 South Miller Rd.\, Buckeye\, AZ\, 85326\, United States
CATEGORIES:Family Entertainment
END:VEVENT
BEGIN:VEVENT
DTSTART;TZID=UTC:20231007T090000
DTEND;TZID=UTC:20231007T140000
DTSTAMP:20260420T071121
CREATED:20231014T180611Z
LAST-MODIFIED:20231006T234124Z
UID:256030-1696669200-1696687200@buckeyeairbnb.com
SUMMARY:Sangria & Shopping
DESCRIPTION:Food\, Fun and Shopping! \n$20 Souvenir Wine Glass includes 3 servings of Sangria. Car Show\, Music and much more.
URL:https://buckeyeairbnb.com/event/sangria-shopping/
LOCATION:6th Street Plaza\, 517 E Monroe Ave\, Buckeye\, AZ\, 85326\, United States
CATEGORIES:Culinary,Family Entertainment,Shopping
END:VEVENT
BEGIN:VEVENT
DTSTART;TZID=UTC:20231013T090000
DTEND;TZID=UTC:20231013T170000
DTSTAMP:20260420T071121
CREATED:20230725T192008Z
LAST-MODIFIED:20230725T192008Z
UID:256004-1697187600-1697216400@buckeyeairbnb.com
SUMMARY:Helzarockin' Gem & Mineral Show
DESCRIPTION:Rocks\, Gems\, Minerals\, Fossils. Jewelry\, Beads\, Slabs\, Cabs\, Scavenger Hun. Rock Painting\, Panning for Gold\, Food and Drinks!
URL:https://buckeyeairbnb.com/event/helzarockin-gem-mineral-show/
LOCATION:Buckeye Arena\, 802 N 1st Street\, Buckeye\, AZ\, 85326\, United States
CATEGORIES:Family Entertainment,Outdoor Adventures,Shopping
END:VEVENT
BEGIN:VEVENT
DTSTART;TZID=UTC:20231014T100000
DTEND;TZID=UTC:20231014T120000
DTSTAMP:20260420T071121
CREATED:20230830T182050Z
LAST-MODIFIED:20230830T182255Z
UID:256047-1697277600-1697284800@buckeyeairbnb.com
SUMMARY:Tour Historic Liberty United Methodist Church
DESCRIPTION:Maintaining History – Liberty United Methodist Church (libertyumcbuckeyeaz.org) \nGroups can be scheduled at other times as well.  Please call 623-386-4090
URL:https://buckeyeairbnb.com/event/tour-historic-liberty-united-methodist-church-2/
LOCATION:Liberty United Methodist Church\, 19900 W US Highway 85\, Buckeye\, AZ\, 85326\, United States
CATEGORIES:historical tour
END:VEVENT
BEGIN:VEVENT
DTSTART;TZID=UTC:20231014T140000
DTEND;TZID=UTC:20231014T220000
DTSTAMP:20260420T071121
CREATED:20230830T175653Z
LAST-MODIFIED:20230830T175653Z
UID:256023-1697292000-1697320800@buckeyeairbnb.com
SUMMARY:South of Arizona 85 Festival at the Farm
DESCRIPTION:ACTIVITIES \nLarge Kid’s Zone with Rock-Climbing Wall and Inflatables \nLiquor will be Sold to Benefit the Arizona FFA Foundation \nDance Floor \nAdult Lawn Games \n\nOUR PERFORMERS\nCHANCEY WILLIAMS\n\n\nJacob Hyde \nBillie Shaw Jr. \nSunset Red \nHarry Luge Band
URL:https://buckeyeairbnb.com/event/south-of-arizona-85-festival-at-the-farm/
LOCATION:Bales Hay\, 20600 W Beloat Rd\, Buckeye\, AZ\, 85326\, United States
CATEGORIES:Concert,Family Entertainment
END:VEVENT
BEGIN:VEVENT
DTSTART;TZID=UTC:20231014T180000
DTEND;TZID=UTC:20231014T210000
DTSTAMP:20260420T071121
CREATED:20230830T180813Z
LAST-MODIFIED:20230830T180813Z
UID:256033-1697306400-1697317200@buckeyeairbnb.com
SUMMARY:Elk's Smoked Meats Dinner
DESCRIPTION:
URL:https://buckeyeairbnb.com/event/elks-smoked-meats-dinner/
LOCATION:The Elks Lodge\, 109 N 5th Street\, Buckeye\, AZ\, 85326\, United States
CATEGORIES:Culinary,Family Entertainment
END:VEVENT
BEGIN:VEVENT
DTSTART;TZID=UTC:20231021T080000
DTEND;TZID=UTC:20231022T170000
DTSTAMP:20260420T071121
CREATED:20230830T180954Z
LAST-MODIFIED:20230830T180954Z
UID:256036-1697875200-1697994000@buckeyeairbnb.com
SUMMARY:Queen Creek Junior Rodeo
DESCRIPTION:A Free event for the whole family.
URL:https://buckeyeairbnb.com/event/queen-creek-junior-rodeo/
LOCATION:South Buckeye Equestrian & Event Center\, 10300 South Miller Rd.\, Buckeye\, AZ\, 85326\, United States
CATEGORIES:Family Entertainment,Sporting Events
END:VEVENT
BEGIN:VEVENT
DTSTART;TZID=UTC:20231028T170000
DTEND;TZID=UTC:20231028T210000
DTSTAMP:20260420T071121
CREATED:20230611T205612Z
LAST-MODIFIED:20230611T205612Z
UID:255948-1698512400-1698526800@buckeyeairbnb.com
SUMMARY:Halloween Carnival
DESCRIPTION:The Halloween Carnival is a traditional event that dates back over 80 years in the Buckeye Community. It is one of Buckeye’s premier events that includes traditional carnival-style games\, food vendors on-site and activities from local non-profit groups. It’s old-fashioned\, family-fun with something for everyone!
URL:https://buckeyeairbnb.com/event/halloween-carnival/
LOCATION:Downtown Buckeye
CATEGORIES:Family Entertainment
END:VEVENT
END:VCALENDAR