BEGIN:VCALENDAR
VERSION:2.0
PRODID:-//Atomic Ranch Buckeye Arizona - ECPv6.5.1.5//NONSGML v1.0//EN
CALSCALE:GREGORIAN
METHOD:PUBLISH
X-ORIGINAL-URL:https://buckeyeairbnb.com
X-WR-CALDESC:Events for Atomic Ranch Buckeye Arizona
REFRESH-INTERVAL;VALUE=DURATION:PT1H
X-Robots-Tag:noindex
X-PUBLISHED-TTL:PT1H
BEGIN:VTIMEZONE
TZID:UTC
BEGIN:STANDARD
TZOFFSETFROM:+0000
TZOFFSETTO:+0000
TZNAME:UTC
DTSTART:20230101T000000
END:STANDARD
END:VTIMEZONE
BEGIN:VEVENT
DTSTART;TZID=UTC:20231103T190000
DTEND;TZID=UTC:20231103T220000
DTSTAMP:20260420T071050
CREATED:20230222T013628Z
LAST-MODIFIED:20230222T013628Z
UID:698-1699038000-1699048800@buckeyeairbnb.com
SUMMARY:NASCAR Craftsman Truck Series
DESCRIPTION:
URL:https://buckeyeairbnb.com/event/nascar-craftsman-truck-series/
LOCATION:Phoenix Raceway\, 7602 S. 115th Ave\, Avondale\, AZ\, United States
CATEGORIES:Sporting Events
END:VEVENT
BEGIN:VEVENT
DTSTART;TZID=UTC:20231104T160000
DTEND;TZID=UTC:20231104T190000
DTSTAMP:20260420T071050
CREATED:20230222T013723Z
LAST-MODIFIED:20230222T013806Z
UID:700-1699113600-1699124400@buckeyeairbnb.com
SUMMARY:NASCAR Xfinity Series Championship
DESCRIPTION:
URL:https://buckeyeairbnb.com/event/nascar-xfinity-series-championship/
LOCATION:Phoenix Raceway\, 7602 S. 115th Ave\, Avondale\, AZ\, United States
CATEGORIES:Sporting Events
END:VEVENT
BEGIN:VEVENT
DTSTART;TZID=UTC:20231105T120000
DTEND;TZID=UTC:20231105T170000
DTSTAMP:20260420T071050
CREATED:20230222T013845Z
LAST-MODIFIED:20230222T013845Z
UID:702-1699185600-1699203600@buckeyeairbnb.com
SUMMARY:NASCAR Cup Series
DESCRIPTION:
URL:https://buckeyeairbnb.com/event/nascar-cup-series/
LOCATION:Phoenix Raceway\, 7602 S. 115th Ave\, Avondale\, AZ\, United States
CATEGORIES:Sporting Events
END:VEVENT
BEGIN:VEVENT
DTSTART;TZID=UTC:20231111T100000
DTEND;TZID=UTC:20231111T120000
DTSTAMP:20260420T071050
CREATED:20230830T182128Z
LAST-MODIFIED:20230830T182243Z
UID:256049-1699696800-1699704000@buckeyeairbnb.com
SUMMARY:Tour Historic Liberty United Methodist Church
DESCRIPTION:Maintaining History – Liberty United Methodist Church (libertyumcbuckeyeaz.org) \nGroups can be scheduled at other times as well.  Please call 623-386-4090
URL:https://buckeyeairbnb.com/event/tour-historic-liberty-united-methodist-church-3/
LOCATION:Liberty United Methodist Church\, 19900 W US Highway 85\, Buckeye\, AZ\, 85326\, United States
CATEGORIES:historical tour
END:VEVENT
BEGIN:VEVENT
DTSTART;TZID=UTC:20231111T110000
DTEND;TZID=UTC:20231111T130000
DTSTAMP:20260420T071050
CREATED:20230830T181337Z
LAST-MODIFIED:20230830T181337Z
UID:256038-1699700400-1699707600@buckeyeairbnb.com
SUMMARY:Buckeye Community Veterans Service Center - Honoring Veterans Day Nov 11
DESCRIPTION:Sloppy Joe Luncheon & Live Music
URL:https://buckeyeairbnb.com/event/buckeye-community-veterans-service-center-honoring-veterans-day-nov-11/
LOCATION:Buckeye Community Veterans Service Center\, 402 East Narramore\, Buckeye\, AZ\, 85326\, United States
CATEGORIES:Concert,Culinary,Family Entertainment
END:VEVENT
BEGIN:VEVENT
DTSTART;TZID=UTC:20231125T090000
DTEND;TZID=UTC:20231125T120000
DTSTAMP:20260420T071050
CREATED:20230611T205713Z
LAST-MODIFIED:20230611T205713Z
UID:255950-1700902800-1700913600@buckeyeairbnb.com
SUMMARY:Shop Small Saturday
DESCRIPTION:Shop Small Saturday is back as we give our local businesses in Buckeye some love just in time for the holiday season.
URL:https://buckeyeairbnb.com/event/shop-small-saturday/
LOCATION:Downtown Buckeye
CATEGORIES:Family Entertainment,Shopping
END:VEVENT
BEGIN:VEVENT
DTSTART;TZID=UTC:20231125T163000
DTEND;TZID=UTC:20231125T183000
DTSTAMP:20260420T071050
CREATED:20230611T205905Z
LAST-MODIFIED:20230611T205905Z
UID:255952-1700929800-1700937000@buckeyeairbnb.com
SUMMARY:Tree Lighting Ceremony
DESCRIPTION:The holidays officially begin when lights go on in Buckeye! Join us and enjoy holiday activities starting at 4:30 p.m. at the 6th Street Plaza across from City Hall. Activities include: \n\nDrop off your letters to Santa\nCookie decorating\nOrnament decorating\nTree Lighting at dusk
URL:https://buckeyeairbnb.com/event/tree-lighting-ceremony/
LOCATION:6th Street Plaza\, 517 E Monroe Ave\, Buckeye\, AZ\, 85326\, United States
CATEGORIES:Family Entertainment,Holiday Event
END:VEVENT
END:VCALENDAR