BEGIN:VCALENDAR
VERSION:2.0
PRODID:-//Atomic Ranch Buckeye Arizona - ECPv6.5.1.5//NONSGML v1.0//EN
CALSCALE:GREGORIAN
METHOD:PUBLISH
X-WR-CALNAME:Atomic Ranch Buckeye Arizona
X-ORIGINAL-URL:https://buckeyeairbnb.com
X-WR-CALDESC:Events for Atomic Ranch Buckeye Arizona
REFRESH-INTERVAL;VALUE=DURATION:PT1H
X-Robots-Tag:noindex
X-PUBLISHED-TTL:PT1H
BEGIN:VTIMEZONE
TZID:UTC
BEGIN:STANDARD
TZOFFSETFROM:+0000
TZOFFSETTO:+0000
TZNAME:UTC
DTSTART:20240101T000000
END:STANDARD
END:VTIMEZONE
BEGIN:VEVENT
DTSTART;VALUE=DATE:20240105
DTEND;VALUE=DATE:20240108
DTSTAMP:20260421T165418
CREATED:20240103T200402Z
LAST-MODIFIED:20240103T200402Z
UID:256158-1704412800-1704671999@buckeyeairbnb.com
SUMMARY:MVP Barrel Race
DESCRIPTION:
URL:https://buckeyeairbnb.com/event/mvp-barrel-race/
LOCATION:South Buckeye Equestrian & Event Center\, 10300 South Miller Rd.\, Buckeye\, AZ\, 85326\, United States
CATEGORIES:Family Entertainment
END:VEVENT
BEGIN:VEVENT
DTSTART;TZID=UTC:20240112T170000
DTEND;TZID=UTC:20240112T183000
DTSTAMP:20260421T165418
CREATED:20240103T195508Z
LAST-MODIFIED:20240103T195508Z
UID:256152-1705078800-1705084200@buckeyeairbnb.com
SUMMARY:Backpacking 101
DESCRIPTION:Open to all skill levels\, from curious beginners to experienced hikers. Learn about backpacking essentials\, trip planning\, packing\, meals\, and more. Don’t miss your chance to unlock the thrill of exploring nature on foot!
URL:https://buckeyeairbnb.com/event/backpacking-101/
LOCATION:AZ
CATEGORIES:Family Entertainment,Outdoor Adventures,Outdoor Fitness
END:VEVENT
BEGIN:VEVENT
DTSTART;TZID=UTC:20240113T063000
DTEND;TZID=UTC:20240113T093000
DTSTAMP:20260421T165418
CREATED:20240103T195425Z
LAST-MODIFIED:20240103T195425Z
UID:256150-1705127400-1705138200@buckeyeairbnb.com
SUMMARY:Skyline Hike of the Month
DESCRIPTION:Don’t like to hike alone and want to learn more about Skyline trails? Join us for a 4-6 mile hike each month with fellow hikers that love the great outdoors. Bring extra water\, snack\, sun protection\, and wear closed-toed shoes. This hike will range from 4-6 miles. Pack a snack or early lunch. Jan. Skyline Crest\, Crest Summit.
URL:https://buckeyeairbnb.com/event/skyline-hike-of-the-month-6/
LOCATION:Skyline Regional Park\, 2600 N Watson Rd\, Buckeye\, AZ\, 85396\, United States
CATEGORIES:Family Entertainment,Outdoor Adventures,Outdoor Fitness
END:VEVENT
BEGIN:VEVENT
DTSTART;TZID=UTC:20240116T100000
DTEND;TZID=UTC:20240116T110000
DTSTAMP:20260421T165418
CREATED:20240103T195325Z
LAST-MODIFIED:20240103T195325Z
UID:256148-1705399200-1705402800@buckeyeairbnb.com
SUMMARY:Plants of the Sonoran Desert Nature Hike
DESCRIPTION:Discover Skyline Regional Park’s plants on an informative hike. Learn about their desert adaptations. Perfect for hiking enthusiasts intrigued by Sonoran Desert flora. Wear closed-toed shoes and bring sun protection and water.
URL:https://buckeyeairbnb.com/event/plants-of-the-sonoran-desert-nature-hike-2/
LOCATION:Skyline Regional Park\, 2600 N Watson Rd\, Buckeye\, AZ\, 85396\, United States
CATEGORIES:Family Entertainment,Outdoor Adventures,Outdoor Fitness
END:VEVENT
BEGIN:VEVENT
DTSTART;TZID=UTC:20240120T100000
DTEND;TZID=UTC:20240120T120000
DTSTAMP:20260421T165418
CREATED:20240103T195223Z
LAST-MODIFIED:20240103T195223Z
UID:256146-1705744800-1705752000@buckeyeairbnb.com
SUMMARY:Jurassic Hike
DESCRIPTION:Journey back 66 million years ago as we invite families to brave the park during the Jurassic time period. Hike an easy grade trail to the Discovery Overlook to participate in activities\, paleo-education\, and get an opportunity to pose for a selfie with a velociraptor. Youth completing the trail\, earn a real fossil (limited supply). Bring a camera\, water\, dress accordingly\, and wear closed-toed shoes.\nAdvance registration is required for every adult and child and opens Jan. 6.
URL:https://buckeyeairbnb.com/event/jurassic-hike/
LOCATION:Skyline Regional Park\, 2600 N Watson Rd\, Buckeye\, AZ\, 85396\, United States
CATEGORIES:Family Entertainment,Outdoor Adventures,Outdoor Fitness
END:VEVENT
BEGIN:VEVENT
DTSTART;TZID=UTC:20240121T230000
DTEND;TZID=UTC:20240122T230000
DTSTAMP:20260421T165418
CREATED:20240103T195945Z
LAST-MODIFIED:20240103T195945Z
UID:256154-1705878000-1705964400@buckeyeairbnb.com
SUMMARY:Pirate Fest
DESCRIPTION:
URL:https://buckeyeairbnb.com/event/pirate-fest/
LOCATION:Hidden Lake\, 24445 W Sunrise Way\, Buckeye\, AZ\, 85326\, United States
CATEGORIES:adult fun
END:VEVENT
BEGIN:VEVENT
DTSTART;TZID=UTC:20240126T080000
DTEND;TZID=UTC:20240128T170000
DTSTAMP:20260421T165418
CREATED:20230830T182441Z
LAST-MODIFIED:20230830T182441Z
UID:256057-1706256000-1706461200@buckeyeairbnb.com
SUMMARY:Buckeye Days
DESCRIPTION:Details Coming Soon
URL:https://buckeyeairbnb.com/event/buckeye-days/
LOCATION:6th Street Plaza\, 517 E Monroe Ave\, Buckeye\, AZ\, 85326\, United States
CATEGORIES:Family Entertainment
END:VEVENT
BEGIN:VEVENT
DTSTART;TZID=UTC:20240126T090000
DTEND;TZID=UTC:20240128T170000
DTSTAMP:20260421T165418
CREATED:20240103T200253Z
LAST-MODIFIED:20240103T200253Z
UID:256156-1706259600-1706461200@buckeyeairbnb.com
SUMMARY:Helzapoppin' PRCA Rodeo
DESCRIPTION:Cattle drive\, bull riding\, bronc riding\, barrel racing\, team roping and calf roping.
URL:https://buckeyeairbnb.com/event/helzapoppin-prca-rodeo/
LOCATION:South Buckeye Equestrian & Event Center\, 10300 South Miller Rd.\, Buckeye\, AZ\, 85326\, United States
CATEGORIES:Family Entertainment
END:VEVENT
BEGIN:VEVENT
DTSTART;TZID=UTC:20240126T190000
DTEND;TZID=UTC:20240126T210000
DTSTAMP:20260421T165418
CREATED:20240103T195141Z
LAST-MODIFIED:20240103T195141Z
UID:256144-1706295600-1706302800@buckeyeairbnb.com
SUMMARY:Full Moon Hike
DESCRIPTION:Hike under the light of a full moon and learn about nighttime wildlife activity. Bring water\, flashlight\, and wear closed-toed shoes. Advance registration required and opens two weeks prior.\nAdvance registration is required for all participants and opens Jan. 8.
URL:https://buckeyeairbnb.com/event/full-moon-hike-2/
LOCATION:Skyline Regional Park\, 2600 N Watson Rd\, Buckeye\, AZ\, 85396\, United States
CATEGORIES:Family Entertainment,Outdoor Adventures,Outdoor Fitness
END:VEVENT
END:VCALENDAR